BEGIN:VCALENDAR
VERSION:2.0
PRODID:-//Santee Health and Wellness - ECPv6.15.20//NONSGML v1.0//EN
CALSCALE:GREGORIAN
METHOD:PUBLISH
X-WR-CALNAME:Santee Health and Wellness
X-ORIGINAL-URL:https://www.santeehealthandwellness.com
X-WR-CALDESC:Events for Santee Health and Wellness
REFRESH-INTERVAL;VALUE=DURATION:PT1H
X-Robots-Tag:noindex
X-PUBLISHED-TTL:PT1H
BEGIN:VTIMEZONE
TZID:America/North_Dakota/New_Salem
BEGIN:DAYLIGHT
TZOFFSETFROM:-0600
TZOFFSETTO:-0500
TZNAME:CDT
DTSTART:20220313T080000
END:DAYLIGHT
BEGIN:STANDARD
TZOFFSETFROM:-0500
TZOFFSETTO:-0600
TZNAME:CST
DTSTART:20221106T070000
END:STANDARD
BEGIN:DAYLIGHT
TZOFFSETFROM:-0600
TZOFFSETTO:-0500
TZNAME:CDT
DTSTART:20230312T080000
END:DAYLIGHT
BEGIN:STANDARD
TZOFFSETFROM:-0500
TZOFFSETTO:-0600
TZNAME:CST
DTSTART:20231105T070000
END:STANDARD
BEGIN:DAYLIGHT
TZOFFSETFROM:-0600
TZOFFSETTO:-0500
TZNAME:CDT
DTSTART:20240310T080000
END:DAYLIGHT
BEGIN:STANDARD
TZOFFSETFROM:-0500
TZOFFSETTO:-0600
TZNAME:CST
DTSTART:20241103T070000
END:STANDARD
END:VTIMEZONE
BEGIN:VEVENT
DTSTART;TZID=America/North_Dakota/New_Salem:20230622T090000
DTEND;TZID=America/North_Dakota/New_Salem:20230622T113000
DTSTAMP:20260421T070635
CREATED:20230609T134720Z
LAST-MODIFIED:20230609T134940Z
UID:974-1687424400-1687433400@www.santeehealthandwellness.com
SUMMARY:Summer Baseball/Softball Camp
DESCRIPTION:Learn the fundamental skills you need to develop to become a better baseball and softball player!
URL:https://www.santeehealthandwellness.com/events/974/2023-06-22/
END:VEVENT
END:VCALENDAR