BEGIN:VCALENDAR
VERSION:2.0
PRODID:-//Santee Health and Wellness - ECPv6.15.20//NONSGML v1.0//EN
CALSCALE:GREGORIAN
METHOD:PUBLISH
X-WR-CALNAME:Santee Health and Wellness
X-ORIGINAL-URL:https://www.santeehealthandwellness.com
X-WR-CALDESC:Events for Santee Health and Wellness
REFRESH-INTERVAL;VALUE=DURATION:PT1H
X-Robots-Tag:noindex
X-PUBLISHED-TTL:PT1H
BEGIN:VTIMEZONE
TZID:America/North_Dakota/New_Salem
BEGIN:DAYLIGHT
TZOFFSETFROM:-0600
TZOFFSETTO:-0500
TZNAME:CDT
DTSTART:20200308T080000
END:DAYLIGHT
BEGIN:STANDARD
TZOFFSETFROM:-0500
TZOFFSETTO:-0600
TZNAME:CST
DTSTART:20201101T070000
END:STANDARD
BEGIN:DAYLIGHT
TZOFFSETFROM:-0600
TZOFFSETTO:-0500
TZNAME:CDT
DTSTART:20210314T080000
END:DAYLIGHT
BEGIN:STANDARD
TZOFFSETFROM:-0500
TZOFFSETTO:-0600
TZNAME:CST
DTSTART:20211107T070000
END:STANDARD
BEGIN:DAYLIGHT
TZOFFSETFROM:-0600
TZOFFSETTO:-0500
TZNAME:CDT
DTSTART:20220313T080000
END:DAYLIGHT
BEGIN:STANDARD
TZOFFSETFROM:-0500
TZOFFSETTO:-0600
TZNAME:CST
DTSTART:20221106T070000
END:STANDARD
END:VTIMEZONE
BEGIN:VEVENT
DTSTART;VALUE=DATE:20210413
DTEND;VALUE=DATE:20210414
DTSTAMP:20260425T115441
CREATED:20210415T181011Z
LAST-MODIFIED:20210430T135757Z
UID:518-1618272000-1618358399@www.santeehealthandwellness.com
SUMMARY:Dr. Vlach\, Psychiatrist
DESCRIPTION:Dr. Vlach\, Psychiatrist is available today at the Santee Health & Wellness Center.  \nThe Health Center is open Monday – Friday\, 8:00am – 4:30pm. 
URL:https://www.santeehealthandwellness.com/events/dr-vlach-psychiatrist-2/2021-04-13/
LOCATION:Health Center\, 110 S. Visiting Eagle Street\, Niobara\, NE\, 68760\, United States
ATTACH;FMTTYPE=image/jpeg:https://www.santeehealthandwellness.com/wp-content/uploads/2021/01/img5.jpg
END:VEVENT
END:VCALENDAR