BEGIN:VCALENDAR
VERSION:2.0
PRODID:-//Santee Health and Wellness - ECPv6.15.20//NONSGML v1.0//EN
CALSCALE:GREGORIAN
METHOD:PUBLISH
X-ORIGINAL-URL:https://www.santeehealthandwellness.com
X-WR-CALDESC:Events for Santee Health and Wellness
REFRESH-INTERVAL;VALUE=DURATION:PT1H
X-Robots-Tag:noindex
X-PUBLISHED-TTL:PT1H
BEGIN:VTIMEZONE
TZID:America/North_Dakota/New_Salem
BEGIN:DAYLIGHT
TZOFFSETFROM:-0600
TZOFFSETTO:-0500
TZNAME:CDT
DTSTART:20240310T080000
END:DAYLIGHT
BEGIN:STANDARD
TZOFFSETFROM:-0500
TZOFFSETTO:-0600
TZNAME:CST
DTSTART:20241103T070000
END:STANDARD
BEGIN:DAYLIGHT
TZOFFSETFROM:-0600
TZOFFSETTO:-0500
TZNAME:CDT
DTSTART:20250309T080000
END:DAYLIGHT
BEGIN:STANDARD
TZOFFSETFROM:-0500
TZOFFSETTO:-0600
TZNAME:CST
DTSTART:20251102T070000
END:STANDARD
BEGIN:DAYLIGHT
TZOFFSETFROM:-0600
TZOFFSETTO:-0500
TZNAME:CDT
DTSTART:20260308T080000
END:DAYLIGHT
BEGIN:STANDARD
TZOFFSETFROM:-0500
TZOFFSETTO:-0600
TZNAME:CST
DTSTART:20261101T070000
END:STANDARD
END:VTIMEZONE
BEGIN:VEVENT
DTSTART;TZID=America/North_Dakota/New_Salem:20251012T080000
DTEND;TZID=America/North_Dakota/New_Salem:20251012T150000
DTSTAMP:20260425T084705
CREATED:20250918T133738Z
LAST-MODIFIED:20250918T133738Z
UID:1318-1760256000-1760281200@www.santeehealthandwellness.com
SUMMARY:Santee spay/neuter/wellness clinic
DESCRIPTION:October 11th-12th from 8-5 on Saturday the 11th and 8-3 Sunday the 12th\nPlease have your cats/dogs to the back of the clinic by 8:00 on both days and in their carriers/kennels.\nPlease contact Deon Lapointe at 402-857-2300 to register your pets for spay or neutering.\nNoah’s Hope will also be available on both days.\nCurrently for Santee Community Members only.\nIn cooperation with Kansas State University Veterinary Medicine\, USDA (APHIS) and Noah’s Hope
URL:https://www.santeehealthandwellness.com/events/santee-spay-neuter-wellness-clinic-3/2025-10-12/
ATTACH;FMTTYPE=image/jpeg:https://www.santeehealthandwellness.com/wp-content/uploads/2025/09/1.jpg
END:VEVENT
BEGIN:VEVENT
DTSTART;TZID=America/North_Dakota/New_Salem:20251011T080000
DTEND;TZID=America/North_Dakota/New_Salem:20251011T170000
DTSTAMP:20260425T084705
CREATED:20250918T133738Z
LAST-MODIFIED:20250918T133738Z
UID:1316-1760169600-1760202000@www.santeehealthandwellness.com
SUMMARY:Santee spay/neuter/wellness clinic
DESCRIPTION:October 11th-12th from 8-5 on Saturday the 11th and 8-3 Sunday the 12th\nPlease have your cats/dogs to the back of the clinic by 8:00 on both days and in their carriers/kennels.\nPlease contact Deon Lapointe at 402-857-2300 to register your pets for spay or neutering.\nNoah’s Hope will also be available on both days.\nCurrently for Santee Community Members only.\nIn cooperation with Kansas State University Veterinary Medicine\, USDA (APHIS) and Noah’s Hope
URL:https://www.santeehealthandwellness.com/events/santee-spay-neuter-wellness-clinic-3/2025-10-11/
ATTACH;FMTTYPE=image/jpeg:https://www.santeehealthandwellness.com/wp-content/uploads/2025/09/1.jpg
END:VEVENT
END:VCALENDAR