BEGIN:VCALENDAR
VERSION:2.0
PRODID:-//Santee Health and Wellness - ECPv6.15.20//NONSGML v1.0//EN
CALSCALE:GREGORIAN
METHOD:PUBLISH
X-WR-CALNAME:Santee Health and Wellness
X-ORIGINAL-URL:https://www.santeehealthandwellness.com
X-WR-CALDESC:Events for Santee Health and Wellness
REFRESH-INTERVAL;VALUE=DURATION:PT1H
X-Robots-Tag:noindex
X-PUBLISHED-TTL:PT1H
BEGIN:VTIMEZONE
TZID:America/North_Dakota/New_Salem
BEGIN:DAYLIGHT
TZOFFSETFROM:-0600
TZOFFSETTO:-0500
TZNAME:CDT
DTSTART:20240310T080000
END:DAYLIGHT
BEGIN:STANDARD
TZOFFSETFROM:-0500
TZOFFSETTO:-0600
TZNAME:CST
DTSTART:20241103T070000
END:STANDARD
BEGIN:DAYLIGHT
TZOFFSETFROM:-0600
TZOFFSETTO:-0500
TZNAME:CDT
DTSTART:20250309T080000
END:DAYLIGHT
BEGIN:STANDARD
TZOFFSETFROM:-0500
TZOFFSETTO:-0600
TZNAME:CST
DTSTART:20251102T070000
END:STANDARD
BEGIN:DAYLIGHT
TZOFFSETFROM:-0600
TZOFFSETTO:-0500
TZNAME:CDT
DTSTART:20260308T080000
END:DAYLIGHT
BEGIN:STANDARD
TZOFFSETFROM:-0500
TZOFFSETTO:-0600
TZNAME:CST
DTSTART:20261101T070000
END:STANDARD
END:VTIMEZONE
BEGIN:VEVENT
DTSTART;TZID=America/North_Dakota/New_Salem:20250625T113000
DTEND;TZID=America/North_Dakota/New_Salem:20250625T133000
DTSTAMP:20260425T052551
CREATED:20250520T144304Z
LAST-MODIFIED:20250520T144304Z
UID:1259-1750851000-1750858200@www.santeehealthandwellness.com
SUMMARY:T-Dress Making Class
DESCRIPTION:Join us on Wednesdays for T-Dress making class with Mrs. Leah Thomas for this 4-week series.\nSupplies and Lunch will be provided.\n*SPOTS LIMITED FOR THE FIRST 20 PEOPLE*
URL:https://www.santeehealthandwellness.com/events/t-dress-making-class/2025-06-25/
ATTACH;FMTTYPE=image/jpeg:https://www.santeehealthandwellness.com/wp-content/uploads/2025/05/1-2.jpg
END:VEVENT
BEGIN:VEVENT
DTSTART;TZID=America/North_Dakota/New_Salem:20250604T113000
DTEND;TZID=America/North_Dakota/New_Salem:20250604T133000
DTSTAMP:20260425T052551
CREATED:20250520T144304Z
LAST-MODIFIED:20250520T144304Z
UID:1258-1749036600-1749043800@www.santeehealthandwellness.com
SUMMARY:T-Dress Making Class
DESCRIPTION:Join us on Wednesdays for T-Dress making class with Mrs. Leah Thomas for this 4-week series.\nSupplies and Lunch will be provided.\n*SPOTS LIMITED FOR THE FIRST 20 PEOPLE*
URL:https://www.santeehealthandwellness.com/events/t-dress-making-class/2025-06-04/
ATTACH;FMTTYPE=image/jpeg:https://www.santeehealthandwellness.com/wp-content/uploads/2025/05/1-2.jpg
END:VEVENT
BEGIN:VEVENT
DTSTART;TZID=America/North_Dakota/New_Salem:20250528T113000
DTEND;TZID=America/North_Dakota/New_Salem:20250528T133000
DTSTAMP:20260425T052551
CREATED:20250520T144304Z
LAST-MODIFIED:20250520T144304Z
UID:1257-1748431800-1748439000@www.santeehealthandwellness.com
SUMMARY:T-Dress Making Class
DESCRIPTION:Join us on Wednesdays for T-Dress making class with Mrs. Leah Thomas for this 4-week series.\nSupplies and Lunch will be provided.\n*SPOTS LIMITED FOR THE FIRST 20 PEOPLE*
URL:https://www.santeehealthandwellness.com/events/t-dress-making-class/2025-05-28/
ATTACH;FMTTYPE=image/jpeg:https://www.santeehealthandwellness.com/wp-content/uploads/2025/05/1-2.jpg
END:VEVENT
BEGIN:VEVENT
DTSTART;TZID=America/North_Dakota/New_Salem:20250521T113000
DTEND;TZID=America/North_Dakota/New_Salem:20250521T133000
DTSTAMP:20260425T052551
CREATED:20250520T144304Z
LAST-MODIFIED:20250520T144304Z
UID:1255-1747827000-1747834200@www.santeehealthandwellness.com
SUMMARY:T-Dress Making Class
DESCRIPTION:Join us on Wednesdays for T-Dress making class with Mrs. Leah Thomas for this 4-week series.\nSupplies and Lunch will be provided.\n*SPOTS LIMITED FOR THE FIRST 20 PEOPLE*
URL:https://www.santeehealthandwellness.com/events/t-dress-making-class/2025-05-21/
ATTACH;FMTTYPE=image/jpeg:https://www.santeehealthandwellness.com/wp-content/uploads/2025/05/1-2.jpg
END:VEVENT
END:VCALENDAR